Workbook

Sheet Calculator
A1: Compound Interest Calculator
A2: Growth with monthly contributions and a year-by-year table
A3: Legend: yellow cells with blue text are inputs you can change. Everything else is a formula and updates automatically.
A5: Inputs
A6: Starting principal | B6: 10000
A7: Monthly contribution | B7: 500
A8: Annual interest rate | B8: 0.07
A9: Years to grow (max 50) | B9: 20
A11: Results
A12: Future value | B12: =IF($B$8=0,$B$6+$B$7*$B$9*12,$B$6*(1+$B$8/12)^($B$9*12)+$B$7*(((1+$B$8/12)^($B$9*12)-1)/($B$8/12))) -> 300850.72
A13: Total contributions | B13: =$B$6+$B$7*$B$9*12 -> 130000
A14: Total interest earned | B14: =$B$12-$B$13 -> 170850.72
A16: Interest compounds monthly, contributions made at month end. Estimates for education only, not financial advice. Free tool from CalcNestHQ.com

Sheet Yearly growth
A1: Year | B1: Total contributed | C1: Balance | D1: Interest earned
A2: 1 | B2: =Calculator!$B$7*12*A2+Calculator!$B$6 -> 16000 | C2: =IF(Calculator!$B$8=0,B2,Calculator!$B$6*(1+Calculator!$B$8/12)^(A2*12)+Calculator!$B$7*(((1+Calculator!$B$8/12)^(A2*12)-1)/(Calculator!$B$8/12))) -> 16919.193 | D2: =C2-B2 -> 919.19345
A3: 2 | B3: =Calculator!$B$7*12*A3+Calculator!$B$6 -> 22000 | C3: =IF(Calculator!$B$8=0,B3,Calculator!$B$6*(1+Calculator!$B$8/12)^(A3*12)+Calculator!$B$7*(((1+Calculator!$B$8/12)^(A3*12)-1)/(Calculator!$B$8/12))) -> 24338.576 | D3: =C3-B3 -> 2338.576
A4: 3 | B4: =Calculator!$B$7*12*A4+Calculator!$B$6 -> 28000 | C4: =IF(Calculator!$B$8=0,B4,Calculator!$B$6*(1+Calculator!$B$8/12)^(A4*12)+Calculator!$B$7*(((1+Calculator!$B$8/12)^(A4*12)-1)/(Calculator!$B$8/12))) -> 32294.306 | D4: =C4-B4 -> 4294.3062
A5: 4 | B5: =Calculator!$B$7*12*A5+Calculator!$B$6 -> 34000 | C5: =IF(Calculator!$B$8=0,B5,Calculator!$B$6*(1+Calculator!$B$8/12)^(A5*12)+Calculator!$B$7*(((1+Calculator!$B$8/12)^(A5*12)-1)/(Calculator!$B$8/12))) -> 40825.157 | D5: =C5-B5 -> 6825.1569
A6: 5 | B6: =Calculator!$B$7*12*A6+Calculator!$B$6 -> 40000 | C6: =IF(Calculator!$B$8=0,B6,Calculator!$B$6*(1+Calculator!$B$8/12)^(A6*12)+Calculator!$B$7*(((1+Calculator!$B$8/12)^(A6*12)-1)/(Calculator!$B$8/12))) -> 49972.703 | D6: =C6-B6 -> 9972.7034
A7: 6 | B7: =Calculator!$B$7*12*A7+Calculator!$B$6 -> 46000 | C7: =IF(Calculator!$B$8=0,B7,Calculator!$B$6*(1+Calculator!$B$8/12)^(A7*12)+Calculator!$B$7*(((1+Calculator!$B$8/12)^(A7*12)-1)/(Calculator!$B$8/12))) -> 59781.527 | D7: =C7-B7 -> 13781.527
A8: 7 | B8: =Calculator!$B$7*12*A8+Calculator!$B$6 -> 52000 | C8: =IF(Calculator!$B$8=0,B8,Calculator!$B$6*(1+Calculator!$B$8/12)^(A8*12)+Calculator!$B$7*(((1+Calculator!$B$8/12)^(A8*12)-1)/(Calculator!$B$8/12))) -> 70299.431 | D8: =C8-B8 -> 18299.431
A9: 8 | B9: =Calculator!$B$7*12*A9+Calculator!$B$6 -> 58000 | C9: =IF(Calculator!$B$8=0,B9,Calculator!$B$6*(1+Calculator!$B$8/12)^(A9*12)+Calculator!$B$7*(((1+Calculator!$B$8/12)^(A9*12)-1)/(Calculator!$B$8/12))) -> 81577.675 | D9: =C9-B9 -> 23577.675
A10: 9 | B10: =Calculator!$B$7*12*A10+Calculator!$B$6 -> 64000 | C10: =IF(Calculator!$B$8=0,B10,Calculator!$B$6*(1+Calculator!$B$8/12)^(A10*12)+Calculator!$B$7*(((1+Calculator!$B$8/12)^(A10*12)-1)/(Calculator!$B$8/12))) -> 93671.224 | D10: =C10-B10 -> 29671.224
A11: 10 | B11: =Calculator!$B$7*12*A11+Calculator!$B$6 -> 70000 | C11: =IF(Calculator!$B$8=0,B11,Calculator!$B$6*(1+Calculator!$B$8/12)^(A11*12)+Calculator!$B$7*(((1+Calculator!$B$8/12)^(A11*12)-1)/(Calculator!$B$8/12))) -> 106639.02 | D11: =C11-B11 -> 36639.017
A12: 11 | B12: =Calculator!$B$7*12*A12+Calculator!$B$6 -> 76000 | C12: =IF(Calculator!$B$8=0,B12,Calculator!$B$6*(1+Calculator!$B$8/12)^(A12*12)+Calculator!$B$7*(((1+Calculator!$B$8/12)^(A12*12)-1)/(Calculator!$B$8/12))) -> 120544.25 | D12: =C12-B12 -> 44544.253
A13: 12 | B13: =Calculator!$B$7*12*A13+Calculator!$B$6 -> 82000 | C13: =IF(Calculator!$B$8=0,B13,Calculator!$B$6*(1+Calculator!$B$8/12)^(A13*12)+Calculator!$B$7*(((1+Calculator!$B$8/12)^(A13*12)-1)/(Calculator!$B$8/12))) -> 135454.7 | D13: =C13-B13 -> 53454.7
... A51: 50 | B51: =Calculator!$B$7*12*A51+Calculator!$B$6 -> 310000 | C51: =IF(Calculator!$B$8=0,B51,Calculator!$B$6*(1+Calculator!$B$8/12)^(A51*12)+Calculator!$B$7*(((1+Calculator!$B$8/12)^(A51*12)-1)/(Calculator!$B$8/12))) -> 3051839.6 | D51: =C51-B51 -> 2741839.6
